BEGIN:VCALENDAR
VERSION:2.0
PRODID:-//Venture Lane - ECPv6.15.20//NONSGML v1.0//EN
CALSCALE:GREGORIAN
METHOD:PUBLISH
X-ORIGINAL-URL:https://theventurelane.com
X-WR-CALDESC:Events for Venture Lane
REFRESH-INTERVAL;VALUE=DURATION:PT1H
X-Robots-Tag:noindex
X-PUBLISHED-TTL:PT1H
BEGIN:VTIMEZONE
TZID:America/New_York
BEGIN:DAYLIGHT
TZOFFSETFROM:-0500
TZOFFSETTO:-0400
TZNAME:EDT
DTSTART:20230312T070000
END:DAYLIGHT
BEGIN:STANDARD
TZOFFSETFROM:-0400
TZOFFSETTO:-0500
TZNAME:EST
DTSTART:20231105T060000
END:STANDARD
BEGIN:DAYLIGHT
TZOFFSETFROM:-0500
TZOFFSETTO:-0400
TZNAME:EDT
DTSTART:20240310T070000
END:DAYLIGHT
BEGIN:STANDARD
TZOFFSETFROM:-0400
TZOFFSETTO:-0500
TZNAME:EST
DTSTART:20241103T060000
END:STANDARD
BEGIN:DAYLIGHT
TZOFFSETFROM:-0500
TZOFFSETTO:-0400
TZNAME:EDT
DTSTART:20250309T070000
END:DAYLIGHT
BEGIN:STANDARD
TZOFFSETFROM:-0400
TZOFFSETTO:-0500
TZNAME:EST
DTSTART:20251102T060000
END:STANDARD
END:VTIMEZONE
BEGIN:VEVENT
DTSTART;TZID=America/New_York:20240904T120000
DTEND;TZID=America/New_York:20240904T130000
DTSTAMP:20260419T153842
CREATED:20240827T153525Z
LAST-MODIFIED:20240827T153713Z
UID:10000073-1725451200-1725454800@theventurelane.com
SUMMARY:Members Only Lunch
DESCRIPTION:Venture Lane’s community lunch to mix and mingle with other members of our Space
URL:https://theventurelane.com/event/members-only-lunch-9-4-24/
CATEGORIES:Member Exclusives
ATTACH;FMTTYPE=image/png:https://theventurelane.com/wp-content/uploads/2024/04/Fireside-Chat-Founder-Stories-.png
END:VEVENT
BEGIN:VEVENT
DTSTART;TZID=America/New_York:20240906T120000
DTEND;TZID=America/New_York:20240906T133000
DTSTAMP:20260419T153842
CREATED:20240827T153040Z
LAST-MODIFIED:20240827T153250Z
UID:10000071-1725624000-1725629400@theventurelane.com
SUMMARY:Founder Friday
DESCRIPTION:For founders by founders\, curated small crowd to discuss biggest challenges and share learnings. No networking selling BS\, just founders supporting other founders!!!
URL:https://theventurelane.com/event/founder-friday-9-6-24/
CATEGORIES:Pitch Night Series
ATTACH;FMTTYPE=image/png:https://theventurelane.com/wp-content/uploads/2024/08/Screenshot-2024-08-27-at-11.31.33-AM.png
END:VEVENT
BEGIN:VEVENT
DTSTART;TZID=America/New_York:20240911T120000
DTEND;TZID=America/New_York:20240911T130000
DTSTAMP:20260419T153842
CREATED:20240827T153339Z
LAST-MODIFIED:20240827T153647Z
UID:10000072-1726056000-1726059600@theventurelane.com
SUMMARY:Members Only Lunch
DESCRIPTION:Venture Lane’s community lunch to mix and mingle with other members of our Space
URL:https://theventurelane.com/event/members-only-lunch-911-24/
CATEGORIES:Member Exclusives
ATTACH;FMTTYPE=image/png:https://theventurelane.com/wp-content/uploads/2024/04/Fireside-Chat-Founder-Stories-.png
END:VEVENT
BEGIN:VEVENT
DTSTART;TZID=America/New_York:20240911T173000
DTEND;TZID=America/New_York:20240911T193000
DTSTAMP:20260419T153842
CREATED:20240827T152605Z
LAST-MODIFIED:20240827T152801Z
UID:10000069-1726075800-1726083000@theventurelane.com
SUMMARY:Startup Boston Week Crawl
DESCRIPTION:Venue Host during Startup Boston week’s annual crawl around downtown Boston!
URL:https://theventurelane.com/event/startup-boston-week-crawl/
CATEGORIES:Pitch Night Series
ATTACH;FMTTYPE=image/png:https://theventurelane.com/wp-content/uploads/2024/04/Fireside-Chat-Founder-Stories-.png
END:VEVENT
BEGIN:VEVENT
DTSTART;TZID=America/New_York:20240917T173000
DTEND;TZID=America/New_York:20240917T193000
DTSTAMP:20260419T153842
CREATED:20240827T154527Z
LAST-MODIFIED:20240829T131116Z
UID:10000076-1726594200-1726601400@theventurelane.com
SUMMARY:AI in Product Design Happy Hour
DESCRIPTION:Happy Hour for those in the the AI product design space\, led by one of our community members!
URL:https://theventurelane.com/event/ai-in-product-design-happy-hour/
CATEGORIES:Pitch Night Series
ATTACH;FMTTYPE=image/png:https://theventurelane.com/wp-content/uploads/2024/04/Fireside-Chat-Founder-Stories-.png
END:VEVENT
BEGIN:VEVENT
DTSTART;TZID=America/New_York:20240918T120000
DTEND;TZID=America/New_York:20240918T130000
DTSTAMP:20260419T153842
CREATED:20240827T153738Z
LAST-MODIFIED:20240827T153808Z
UID:10000074-1726660800-1726664400@theventurelane.com
SUMMARY:Members Only Lunch
DESCRIPTION:Venture Lane’s community lunch to mix and mingle with other members of our Space
URL:https://theventurelane.com/event/members-only-lunch-9-18-24/
CATEGORIES:Member Exclusives
ATTACH;FMTTYPE=image/png:https://theventurelane.com/wp-content/uploads/2024/04/Fireside-Chat-Founder-Stories-.png
END:VEVENT
BEGIN:VEVENT
DTSTART;TZID=America/New_York:20240924T173000
DTEND;TZID=America/New_York:20240924T193000
DTSTAMP:20260419T153842
CREATED:20240827T152846Z
LAST-MODIFIED:20240827T153029Z
UID:10000070-1727199000-1727206200@theventurelane.com
SUMMARY:Oktoberfest
DESCRIPTION:Venture Lane’s special edition Blue Hour with 70+ founders\, mentors\, and investors you know and love!
URL:https://theventurelane.com/event/oktoberfest-9-24-24/
CATEGORIES:Pitch Night Series
ATTACH;FMTTYPE=image/png:https://theventurelane.com/wp-content/uploads/2024/04/Fireside-Chat-Founder-Stories-.png
END:VEVENT
BEGIN:VEVENT
DTSTART;TZID=America/New_York:20240925T120000
DTEND;TZID=America/New_York:20240925T130000
DTSTAMP:20260419T153842
CREATED:20240827T153816Z
LAST-MODIFIED:20240827T154316Z
UID:10000075-1727265600-1727269200@theventurelane.com
SUMMARY:Members Only Lunch
DESCRIPTION:Venture Lane’s community lunch to mix and mingle with other members of our Space
URL:https://theventurelane.com/event/members-only-lunch-9-25-24/
CATEGORIES:Member Exclusives
ATTACH;FMTTYPE=image/png:https://theventurelane.com/wp-content/uploads/2024/04/Fireside-Chat-Founder-Stories-.png
END:VEVENT
BEGIN:VEVENT
DTSTART;TZID=America/New_York:20240928T180000
DTEND;TZID=America/New_York:20240928T210000
DTSTAMP:20260419T153842
CREATED:20240829T132550Z
LAST-MODIFIED:20240926T202005Z
UID:10000077-1727546400-1727557200@theventurelane.com
SUMMARY:German Academic Scholarship Foundation Conference
DESCRIPTION:
URL:https://theventurelane.com/event/german-scholarship-foundation-conference/
CATEGORIES:Pitch Night Series
ATTACH;FMTTYPE=image/png:https://theventurelane.com/wp-content/uploads/2024/04/Fireside-Chat-Founder-Stories-.png
END:VEVENT
END:VCALENDAR