BEGIN:VCALENDAR
VERSION:2.0
PRODID:-//Venture Lane - ECPv6.15.20//NONSGML v1.0//EN
CALSCALE:GREGORIAN
METHOD:PUBLISH
X-WR-CALNAME:Venture Lane
X-ORIGINAL-URL:https://theventurelane.com
X-WR-CALDESC:Events for Venture Lane
REFRESH-INTERVAL;VALUE=DURATION:PT1H
X-Robots-Tag:noindex
X-PUBLISHED-TTL:PT1H
BEGIN:VTIMEZONE
TZID:UTC
BEGIN:STANDARD
TZOFFSETFROM:+0000
TZOFFSETTO:+0000
TZNAME:UTC
DTSTART:20230101T000000
END:STANDARD
END:VTIMEZONE
BEGIN:VEVENT
DTSTART;TZID=UTC:20240605T173000
DTEND;TZID=UTC:20240605T210000
DTSTAMP:20260419T204424
CREATED:20240401T232135Z
LAST-MODIFIED:20240501T154947Z
UID:10000006-1717608600-1717621200@theventurelane.com
SUMMARY:Blue Hour + Cohort 5 Closing Party
DESCRIPTION:This special installment of Venture Lane’s monthly Blue Hour brings together 70+ of the incredible founders\, mentors\, and investors you know and love Plus\, we will be recognizing our Spring cohort program coming to a close!
URL:https://theventurelane.com/event/blue-hour-cohort-5-closing-party/
CATEGORIES:Founder Socials
ATTACH;FMTTYPE=image/png:https://theventurelane.com/wp-content/uploads/2024/04/cohort-5-reveal-2.png
END:VEVENT
BEGIN:VEVENT
DTSTART;TZID=UTC:20240618T110000
DTEND;TZID=UTC:20240618T130000
DTSTAMP:20260419T204424
CREATED:20240617T155314Z
LAST-MODIFIED:20240617T155815Z
UID:10000066-1718708400-1718715600@theventurelane.com
SUMMARY:Unpitch TECH
DESCRIPTION:Unpitch facilitates connections between early stage entrepreneurs and seasoned investors. Events are a chance for founders to have lunch with investors in a casual\, no-pressure environment\, discuss business plans\, get meaningful feedback\, and make connections critical to progress.
URL:https://newenglandvc.org/event/unpitch-tech-2024?target=_blank
CATEGORIES:Pitch Night Series
ATTACH;FMTTYPE=image/png:https://theventurelane.com/wp-content/uploads/2024/04/Fireside-Chat-Founder-Stories-.png
END:VEVENT
BEGIN:VEVENT
DTSTART;TZID=UTC:20240627T173000
DTEND;TZID=UTC:20240627T203000
DTSTAMP:20260419T204424
CREATED:20240617T154420Z
LAST-MODIFIED:20240617T155229Z
UID:10000065-1719509400-1719520200@theventurelane.com
SUMMARY:Women in Startups & Venture Capital
DESCRIPTION:Join us for the Women in Startups & Venture Capital event\, hosted at Venture Lane Startup Hub in partnership with the Boston Club and How Women Lead. This event is a networking opportunity for those involved in in women led businesses\, boards\, venture investments\, and wealth.
URL:https://markitevents.com/e/ilqsfaDsvt?target=_blank
CATEGORIES:Pitch Night Series
ATTACH;FMTTYPE=image/png:https://theventurelane.com/wp-content/uploads/2024/06/hi.png
END:VEVENT
END:VCALENDAR